BEGIN:VCALENDAR
VERSION:2.0
PRODID:-//SOAL - ECPv5.0.2.1//NONSGML v1.0//EN
CALSCALE:GREGORIAN
METHOD:PUBLISH
X-WR-CALNAME:SOAL
X-ORIGINAL-URL:https://soal.at
X-WR-CALDESC:Veranstaltungen im SOAL
BEGIN:VTIMEZONE
TZID:Europe/Berlin
BEGIN:DAYLIGHT
TZOFFSETFROM:+0100
TZOFFSETTO:+0200
TZNAME:CEST
DTSTART:20230326T010000
END:DAYLIGHT
BEGIN:STANDARD
TZOFFSETFROM:+0200
TZOFFSETTO:+0100
TZNAME:CET
DTSTART:20231029T010000
END:STANDARD
END:VTIMEZONE
BEGIN:VEVENT
DTSTART;TZID=Europe/Berlin:20230121T150000
DTEND;TZID=Europe/Berlin:20230121T170000
DTSTAMP:20260425T010419
CREATED:20230117T140156Z
LAST-MODIFIED:20230125T125154Z
UID:1925-1674313200-1674320400@soal.at
SUMMARY:To remember is to fight! Solidarity action with Russian anti-war activists in Vienna.
DESCRIPTION:From the Telegram channel «NEWOJNA»:Into the dustbin with the waste\, with the war\, fascism\, imperialism! \nJanuary 21\, Saturday\, 15:00–17:00\n1030 Vienna\, Modenapark 8–9\nAs the democratic left forced to leave Russia for political reasons\, we ask our foreign comrades and all those who care to support the antifascist action in Vienna on January 21. We will meet to discuss the current political situation in Russia and support leftist political prisoners by writing them letters (in any language\, as they will be translated to Russian). \nLanguage: Englisch/Deutsch \nOrganizers: Russian Socialist Movement (RSD)\, Russians against war (Vienna) \nSee also the call for solidarity actions with anti-war activists in Russia:\nhttps://internationalviewpoint.org/spip.php?article7938 \n
URL:https://soal.at/veranstaltung/to-remember-is-to-fight-solidarity-action-with-russian-anti-war-activists-in-vienna/
LOCATION:1030 Wien\, Modenapark 8-9
CATEGORIES:Vergangen
ATTACH;FMTTYPE=image/png:https://soal.at/wp-content/uploads/2023/01/rsd-grafik-antifa-ausschnitt_2.png
END:VEVENT
END:VCALENDAR