BEGIN:VCALENDAR
VERSION:2.0
PRODID:-//SOAL - ECPv5.0.2.1//NONSGML v1.0//EN
CALSCALE:GREGORIAN
METHOD:PUBLISH
X-WR-CALNAME:SOAL
X-ORIGINAL-URL:https://soal.at
X-WR-CALDESC:Veranstaltungen im SOAL
BEGIN:VTIMEZONE
TZID:Europe/Berlin
BEGIN:DAYLIGHT
TZOFFSETFROM:+0100
TZOFFSETTO:+0200
TZNAME:CEST
DTSTART:20250330T010000
END:DAYLIGHT
BEGIN:STANDARD
TZOFFSETFROM:+0200
TZOFFSETTO:+0100
TZNAME:CET
DTSTART:20251026T010000
END:STANDARD
END:VTIMEZONE
BEGIN:VEVENT
DTSTART;TZID=Europe/Berlin:20251010T183000
DTEND;TZID=Europe/Berlin:20251012T150000
DTSTAMP:20260425T135519
CREATED:20251002T154535Z
LAST-MODIFIED:20251016T160944Z
UID:3171-1760121000-1760281200@soal.at
SUMMARY:Tagung Linke Betriebsarbeit Wien
DESCRIPTION:\n\nOrt:\nDIDF Wien – 1100 Wien\, Gudrunstraße 133 und\nPlanet 10 – 1100 Wien\, Pernerstorfergasse 12 \nHier geht es zur Anmeldung – Klick hier \n\nDas Programm: >>klick hier<<\n\nVon der Betriebsarbeit zur Klassenpolitik\nDie Gesellschaft erlebt tiefe Umbrüche und gerade Betriebe und Gewerkschaften stehen vor großen Herausforderungen. Überstunden häufen sich während Pausen immer kürzer werden. Und durch die galoppierende Inflation bleibt am Ende mehr Monat als Geld übrig. Kurz: Arbeit und Wirtschaft stecken in einer tiefen Krise. \nIn der österreichischen Industrie brechen Jobs weg\, während die Regierung ein Sparpaket nach dem anderen durchdrückt. Rechte erleben in Österreich gerade in den letzten ein\, zwei Jahren noch mal einen gefährlichen Aufstieg. Hinzu kommt\, dass es keine Antwort auf die Klimakrise gibt und Militarisierung und Kriege immer mehr zur Normalität werden. Um gegen diese Krisen und sich verschlechternde Arbeitsbedingungen etwas zu unternehmen\, müssen wir uns an der Basis und im Betrieb organisieren. Denn die Probleme schreien nach einem organisierten Arbeitskampf. Doch jene\, die eigentlich unsere Stimme sein sollten\, unternehmen noch zu wenig: In Österreich sprechen Gewerkschaften die Probleme noch nicht offen genug an oder üben nicht genügend Druck aus. Das reicht nicht\, um Rechtsruck\, Klimakrise und Sozialabbau etwas entgegenzusetzen. Nur wenn wir uns im Betrieb und an der Basis organisieren und gemeinsam Kämpfen und unsere Stimme erheben\, können wir Schritt für Schritt das gute Leben für alle erkämpfen! \nDiese Herausforderungen an der Basis\, Krisen und emanzipative Antworten wollen wir auf unserer Tagung mit vielen Aktiven aus Gewerkschaften und Streiksolidarität diskutieren. Gemeinsam sollen aktuelle betriebliche und gewerkschaftliche Kämpfe praxisnah ausgewertet werden. Denn schwierige Zeiten brauchen starke Antworten und eine Organisierung an der betrieblichen Basis. \n
URL:https://soal.at/veranstaltung/tagung-linke-betriebsarbeit-wien/
LOCATION:DIDF Wien\, Gudrunstraße 133\, 1100 Wien
CATEGORIES:Vergangen
ATTACH;FMTTYPE=image/jpeg:https://soal.at/wp-content/uploads/2025/10/Tagung-Linke-Betriebsarbeit-in-Wien-2025.jpeg
END:VEVENT
END:VCALENDAR