BEGIN:VCALENDAR
VERSION:2.0
PRODID:-//SOAL - ECPv5.0.2.1//NONSGML v1.0//EN
CALSCALE:GREGORIAN
METHOD:PUBLISH
X-WR-CALNAME:SOAL
X-ORIGINAL-URL:https://soal.at
X-WR-CALDESC:Veranstaltungen im SOAL
BEGIN:VTIMEZONE
TZID:Europe/Berlin
BEGIN:DAYLIGHT
TZOFFSETFROM:+0100
TZOFFSETTO:+0200
TZNAME:CEST
DTSTART:20250330T010000
END:DAYLIGHT
BEGIN:STANDARD
TZOFFSETFROM:+0200
TZOFFSETTO:+0100
TZNAME:CET
DTSTART:20251026T010000
END:STANDARD
END:VTIMEZONE
BEGIN:VEVENT
DTSTART;TZID=Europe/Berlin:20250731T170000
DTEND;TZID=Europe/Berlin:20250731T190000
DTSTAMP:20260425T164404
CREATED:20250730T233005Z
LAST-MODIFIED:20250805T090750Z
UID:3080-1753981200-1753988400@soal.at
SUMMARY:Solidarität mit Persmanhof!
DESCRIPTION: \n
URL:https://soal.at/veranstaltung/solidaritaet-mit-persmanhof/
LOCATION:Bundesministerium für Inneres\, Herrengasse 7\, Wien\, Österreich
CATEGORIES:Vergangen
ATTACH;FMTTYPE=image/jpeg:https://soal.at/wp-content/uploads/2025/07/Persmanhof.jpg
END:VEVENT
END:VCALENDAR