BEGIN:VCALENDAR
VERSION:2.0
PRODID:-//SOAL - ECPv5.0.2.1//NONSGML v1.0//EN
CALSCALE:GREGORIAN
METHOD:PUBLISH
X-WR-CALNAME:SOAL
X-ORIGINAL-URL:https://soal.at
X-WR-CALDESC:Veranstaltungen im SOAL
BEGIN:VTIMEZONE
TZID:Europe/Berlin
BEGIN:DAYLIGHT
TZOFFSETFROM:+0100
TZOFFSETTO:+0200
TZNAME:CEST
DTSTART:20260329T010000
END:DAYLIGHT
BEGIN:STANDARD
TZOFFSETFROM:+0200
TZOFFSETTO:+0100
TZNAME:CET
DTSTART:20261025T010000
END:STANDARD
END:VTIMEZONE
BEGIN:VEVENT
DTSTART;VALUE=DATE:20260712
DTEND;VALUE=DATE:20260718
DTSTAMP:20260424T110704
CREATED:20260416T140739Z
LAST-MODIFIED:20260416T142319Z
UID:3898-1783814400-1784332799@soal.at
SUMMARY:SOAL Sommerseminar 2026
DESCRIPTION:\n\n\n\n\nSonntag\, 12. Juli\n14:00 Uhr bis\nFreitag\, 17. Juli\n17:00 Uhr\n \neeeeeeeeeee \n\nOrganisatorisches\nDas Sommercamp der SOAL findet heuer wieder im bewährten Jugendgästehaus in der Nähe von St. Pölten (NÖ) statt. Die Unterbringung erfolgt in Mehrbettzimmern. Auf der Wiese vor dem Jugendgästehaus können aber auch Zelte aufgestellt werden. Wer lieber in einer Pension nächtigen möchte\, hat (auf eigene Kosten) in der Nähe auch dazu die Möglichkeit. \n\nProgrammvorschau\nSonntag:\nNachmittag – Ankommen\, Austausch\nAbend – Kuba. Trump’sche Bedrohungsszenarien und die lateinamerikanische Unterstützungs-Flotilla. \nMontag:\nVormittag – Theorie und Beispiele ökologischer Klassenpolitik\nNachmittag – Spanien vor dem Bürgerkrieg. Ansätze von Selbstverwaltung in Betrieben. \nDienstag:\nGanzer Tag – Zionismus\, der Staat Israel\, aktuelle Situation. \nMittwoch: selbstverwaltete Freizeit – individuell oder kollektiv \nDonnerstag:\nVormittag – Politische und ökonomische Situation in Europa\nNachmittag – Der Iran. Eine umfassende Analyse. \nFreitag:\nVormittag – Berichte und Perspektiven der SOAL | Seminar-Resüme \n\n  \n  \n
URL:https://soal.at/veranstaltung/soal-sommerseminar-2026/
CATEGORIES:Anstehend
ATTACH;FMTTYPE=image/jpeg:https://soal.at/wp-content/uploads/2025/03/Logo-Sommerseminar-klein.jpg
END:VEVENT
END:VCALENDAR