BEGIN:VCALENDAR
VERSION:2.0
PRODID:-//SOAL - ECPv5.0.2.1//NONSGML v1.0//EN
CALSCALE:GREGORIAN
METHOD:PUBLISH
X-WR-CALNAME:SOAL
X-ORIGINAL-URL:https://soal.at
X-WR-CALDESC:Veranstaltungen im SOAL
BEGIN:VTIMEZONE
TZID:Europe/Berlin
BEGIN:DAYLIGHT
TZOFFSETFROM:+0100
TZOFFSETTO:+0200
TZNAME:CEST
DTSTART:20240331T010000
END:DAYLIGHT
BEGIN:STANDARD
TZOFFSETFROM:+0200
TZOFFSETTO:+0100
TZNAME:CET
DTSTART:20241027T010000
END:STANDARD
END:VTIMEZONE
BEGIN:VEVENT
DTSTART;VALUE=DATE:20240707
DTEND;VALUE=DATE:20240713
DTSTAMP:20260425T151749
CREATED:20230327T143911Z
LAST-MODIFIED:20250203T140948Z
UID:2047-1720310400-1720828799@soal.at
SUMMARY:SOAL Sommercamp 2024
DESCRIPTION:\nSonntag\, 7. Juli 14:00 Uhr bis\nFreitag\, 12. Juli 17:00 Uhr\n  \neeeeeeeeeeee \n\nOrganisatorisches\nDas Sommercamp der SOAL findet heuer wieder im bewährten Jugendgästehaus in der Nähe von St. Pölten (NÖ) statt. Die Unterbringung erfolgt in Mehrbettzimmern. Auf der Wiese vor dem Jugendgästehaus können aber auch Zelte aufgestellt werden. Wer lieber in einer Pension nächtigen möchte\, hat (auf eigene Kosten) in der Nähe auch dazu die Möglichkeit. \n\nProgramm\, allgemeine Infos und Info zur Anmeldung als pdf:\npdf: SOAL Sommercamp 2024 Einladung_Programm \n\nAnmeldung\nWer kommen mag\, soll sich bitte rasch anmelden\, da wir den Einkauf für das leibliche Wohl (Essen\, Naschen\, Trinken) organisiern müssen. \n \n
URL:https://soal.at/veranstaltung/soal-sommercamp-2023/
CATEGORIES:Vergangen
ATTACH;FMTTYPE=image/jpeg:https://soal.at/wp-content/uploads/2020/06/sommercamp_schrift_neu.jpg
END:VEVENT
END:VCALENDAR