BEGIN:VCALENDAR
VERSION:2.0
PRODID:-//SOAL - ECPv5.0.2.1//NONSGML v1.0//EN
CALSCALE:GREGORIAN
METHOD:PUBLISH
X-WR-CALNAME:SOAL
X-ORIGINAL-URL:https://soal.at
X-WR-CALDESC:Veranstaltungen im SOAL
BEGIN:VTIMEZONE
TZID:Europe/Berlin
BEGIN:DAYLIGHT
TZOFFSETFROM:+0100
TZOFFSETTO:+0200
TZNAME:CEST
DTSTART:20220327T010000
END:DAYLIGHT
BEGIN:STANDARD
TZOFFSETFROM:+0200
TZOFFSETTO:+0100
TZNAME:CET
DTSTART:20221030T010000
END:STANDARD
END:VTIMEZONE
BEGIN:VEVENT
DTSTART;TZID=Europe/Berlin:20220710T140000
DTEND;TZID=Europe/Berlin:20220715T170000
DTSTAMP:20260424T201644
CREATED:20220405T151017Z
LAST-MODIFIED:20220719T101458Z
UID:1454-1657461600-1657904400@soal.at
SUMMARY:SOAL Sommercamp 2022
DESCRIPTION:\nSonntag\, 10. Juli 14:00 Uhr bis\nFreitag\, 15. Juli 17:00 Uhr\n \n\nOrganisatorisches\nDas Sommercamp der SOAL findet heuer wieder im bewährten Jugendgästehaus in der Nähe von St. Pölten (NÖ) statt. Die Unterbringung erfolgt in Mehrbettzimmern. Auf der Wiese vor dem Jugendgästehaus können aber auch Zelte aufgestellt werden. Wer lieber in einer Pension nächtigen möchte\, hat (auf eigene Kosten) in der Nähe auch dazu die Möglichkeit. \nPreis: € 200\,- (Seminarbeitrag\, Unterkunft im Jugendhaus\, Verpflegung\, div. Seminarunterlagen inbegriffen) \nBitte um Anmeldung unter | bzw. nähere Informationen unter\n \n\nProgramm/Themen\n[A] Über die Schwierigkeiten\, eine „korrekte“ Position zu finden. \nDer Ukrainekrieg und die Linke / die Vierte Internationale.\nEinblick in und Austausch zwischen unterschiedlichen Positionen zum Krieg in der Ukraine. Neben den Argumenten\, Stärken\, Schwächen dieser Positionen soll auch das eigene Unbehagen\, in diesem Konflikt eine stimmig politische\, humane\, marxistische bzw. revolutionäre Position zu finden\, Thema sein. \n[B] Massaker und Völkermord. \nDurch den Krieg in der Ukraine ist (wieder) der Begriff Völkermord\, Genozid in aller Munde bzw. in allen Schlagzeilen.\nIn Form eines Workshop mit kurzen Inputs soll die historische Entwicklung internationalen Rechts (Kontrollratsgesetz\, Römisches Statut des Internationalen Strafgerichtshofs)\, aber auch die politischen Dimensionen dieser Entwicklung betrachtet werden.\nWeiters soll die (mediale\, politische\, rechtliche) Beachtung bzw. Nichtbeachtung von genoziden Evidenzen nach dem römischen Statuten bearbeitet werden (Kurd*innen\, Uigur*innen\, Indigene in Brasilien\, …). \n[C] Klimakrise \n\nEnergiewende > Reproduktion (z.B. Heizen\, Nahrung\, Individualverkehr) | Produktion/Warenwirtschaft (nachhaltige Produktion\, Lieferwege\, Transport\, …)\nKrieg und Klimakrise (noch offen)\n\n[D] Berichte aus der 4. Internationale \n
URL:https://soal.at/veranstaltung/soal-sommercamp-2022/
CATEGORIES:Vergangen
ATTACH;FMTTYPE=image/jpeg:https://soal.at/wp-content/uploads/2020/06/sommercamp_schrift_neu.jpg
END:VEVENT
END:VCALENDAR