BEGIN:VCALENDAR
VERSION:2.0
PRODID:-//SOAL - ECPv5.0.2.1//NONSGML v1.0//EN
CALSCALE:GREGORIAN
METHOD:PUBLISH
X-WR-CALNAME:SOAL
X-ORIGINAL-URL:https://soal.at
X-WR-CALDESC:Veranstaltungen im SOAL
BEGIN:VTIMEZONE
TZID:Europe/Berlin
BEGIN:DAYLIGHT
TZOFFSETFROM:+0100
TZOFFSETTO:+0200
TZNAME:CEST
DTSTART:20210328T010000
END:DAYLIGHT
BEGIN:STANDARD
TZOFFSETFROM:+0200
TZOFFSETTO:+0100
TZNAME:CET
DTSTART:20211031T010000
END:STANDARD
END:VTIMEZONE
BEGIN:VEVENT
DTSTART;TZID=Europe/Berlin:20210711T140000
DTEND;TZID=Europe/Berlin:20210716T170000
DTSTAMP:20260424T215037
CREATED:20210601T102253Z
LAST-MODIFIED:20210802T113917Z
UID:729-1626012000-1626454800@soal.at
SUMMARY:SOAL Sommercamp 2021
DESCRIPTION:\nSonntag\, 11. Juli 14:00 Uhr bis\nFreitag\, 16. Juli 17:00 Uhr\n \nDas detaillierte Programm und Informationen als pdf-Dokument\n\nOrganisatorisches\nDas Sommercamp der SOAL findet heuer wieder im bewährten Jugendgästehaus in der Nähe von St. Pölten (NÖ) statt. Die Unterbringung erfolgt in Mehrbettzimmern. Auf der Wiese vor dem Jugendgästehaus können aber auch Zelte aufgestellt werden. Wer lieber in einer Pension nächtigen möchte\, hat (auf eigene Kosten) in der Nähe auch dazu die Möglichkeit. \nPreis: € 180\,- (Seminarbeitrag\, Unterkunft im Jugendhaus\, Verpflegung\, div. Seminarunterlagen inbegriffen) \nBitte um Anmeldung unter | bzw. nähere Informationen unter\n \n
URL:https://soal.at/veranstaltung/soal-sommercamp-2021/
CATEGORIES:Vergangen
ATTACH;FMTTYPE=image/jpeg:https://soal.at/wp-content/uploads/2020/06/sommercamp_schrift_neu.jpg
END:VEVENT
END:VCALENDAR