BEGIN:VCALENDAR
VERSION:2.0
PRODID:-//SOAL - ECPv5.0.2.1//NONSGML v1.0//EN
CALSCALE:GREGORIAN
METHOD:PUBLISH
X-WR-CALNAME:SOAL
X-ORIGINAL-URL:https://soal.at
X-WR-CALDESC:Veranstaltungen im SOAL
BEGIN:VTIMEZONE
TZID:Europe/Berlin
BEGIN:DAYLIGHT
TZOFFSETFROM:+0100
TZOFFSETTO:+0200
TZNAME:CEST
DTSTART:20200329T010000
END:DAYLIGHT
BEGIN:STANDARD
TZOFFSETFROM:+0200
TZOFFSETTO:+0100
TZNAME:CET
DTSTART:20201025T010000
END:STANDARD
END:VTIMEZONE
BEGIN:VEVENT
DTSTART;TZID=Europe/Berlin:20200509T140000
DTEND;TZID=Europe/Berlin:20200510T140000
DTSTAMP:20260425T040515
CREATED:20200504T155415Z
LAST-MODIFIED:20200511T114432Z
UID:235-1589032800-1589119200@soal.at
SUMMARY:Ökosozialistische Online-Konferenz
DESCRIPTION:Die kommenden zehn Jahre werden darüber entscheiden\, ob sich die Klimakrise noch in diesem Jahrhundert zu einer Katastrophe für die menschliche Zivilisation entwickelt. Gelingt es nicht\, die Erwärmung auf 1\,5° Celsius zu beschränken\, droht die Aufheizung unserer Atmosphäre außer Kontrolle zu geraten. In den 25 Jahren seit Inkrafttreten des Klimarahmenabkommens ist es nicht gelungen\, wirksame Strategien gegen die Klimakatastrophe zu entwickeln.\nDer Anteil des Treibhausgases CO₂ in unserer Atmosphäre steigt Jahr für Jahr weiter\, und sogar immer schneller. Die Regierenden und die Wirtschaftsinteressen\, die hinter ihnen stehen\, scheinen unfähig\, eine Antwort zu finden. Viele stellen sich deshalb die Frage: Kann denn eine Wirtschaftsordnung\, in der allein die Vermehrung von Kapital\nder Zweck des gesellschaftlichen Handelns ist\, nicht aber die Befriedigung menschlicher Bedürfnisse und ein nachhaltiger Stoffwechsel mit der Natur\, überhaupt den notwendigen Wandel schaffen? Ist die Überwindung der kapitalistischen Wirtschaftsweise nicht vielleicht eine notwendige Voraussetzung\, damit die Rettung des Weltklimas gelingen kann? \nAktuelle Informationen über das Programm gibt es hier: http://www.oekosozialistische-konferenz.de\nKontakt: konferenz@intersoz.org \n
URL:https://soal.at/veranstaltung/oekosozialistische-online-konferenz/
CATEGORIES:Vergangen
END:VEVENT
END:VCALENDAR