BEGIN:VCALENDAR
VERSION:2.0
PRODID:-//SOAL - ECPv5.0.2.1//NONSGML v1.0//EN
CALSCALE:GREGORIAN
METHOD:PUBLISH
X-WR-CALNAME:SOAL
X-ORIGINAL-URL:https://soal.at
X-WR-CALDESC:Veranstaltungen im SOAL
BEGIN:VTIMEZONE
TZID:Europe/Berlin
BEGIN:DAYLIGHT
TZOFFSETFROM:+0100
TZOFFSETTO:+0200
TZNAME:CEST
DTSTART:20230326T010000
END:DAYLIGHT
BEGIN:STANDARD
TZOFFSETFROM:+0200
TZOFFSETTO:+0100
TZNAME:CET
DTSTART:20231029T010000
END:STANDARD
END:VTIMEZONE
BEGIN:VEVENT
DTSTART;VALUE=DATE:20230609
DTEND;VALUE=DATE:20230612
DTSTAMP:20260425T164505
CREATED:20230327T143111Z
LAST-MODIFIED:20230615T125741Z
UID:2039-1686268800-1686527999@soal.at
SUMMARY:Ökosozialistische Konferenz Köln
DESCRIPTION:Klima\, Klasse\, Widerstand!\n\n\nAuch 2023 lädt dich die ISO wieder zur Ökosozialistischen Konferenz ein. Wie soll eine sozialistische Perspektive unter den Bedingungen der Klimakatastrophe\, der tagtäglichen Gefahr einer militärischen Eskalation und der Drangsalierung der Arbeiter:innen durch die Folgen von Preissteigerung aussehen?\nWir bringen die zusammen die in Betrieben und Stadtteilen schon heute darum ringen um dem Klassenkampf von oben eine widerständige Alltagspraxis entgegenzusatzen\, fortschrittliche Wissenschaftler:innen zeigen uns auf\, was möglich wäre – wenn die Macht des Kapitals gebrochen werden kann.\nUnd wir wollen diesmal ein besonderes Augenmerk auf die Vermittlung marxistischer Grundbegriffe und Erfahrungen legen\, um einer neuen Generation von Aktivist:innen dieses kollektive Wissen der Arbeiter:Innenbewegung an die Hand zu geben.\nEs wird mehr Workshops\, mehr Möglichkeiten zum Austausch geben als bisher. Wie im letzten Jahr\, arbeiten wir auch diesmal wieder an einem Ablauf\, bei dem das Miteinander zwischen den Workshops nicht zu kurz kommt. \nWer sich jetzt schon anmelden will\, kann dies mit einer kurzen Mail an konferenz@intersoz.org tun. \nDemnächst mehr Infos auf der Webseite zur Veranstaltung: http://www.oekosozialistische-konferenz.de/ \n\n\n
URL:https://soal.at/veranstaltung/oekosozialistische-konferenz-koeln/
LOCATION:Naturfreundehaus Köln-Kalk\, Kapellenstraße 9a\, Köln\, 51103\, Deutschland
CATEGORIES:Vergangen
ATTACH;FMTTYPE=image/png:https://soal.at/wp-content/uploads/2023/03/OekosozKonf-7-300x180-1.png
ORGANIZER;CN="Internationale%20Sozialistische%20Organisation%20%28ISO%29":MAILTO:iso@intersoz.org
END:VEVENT
END:VCALENDAR