BEGIN:VCALENDAR
VERSION:2.0
PRODID:-//SOAL - ECPv5.0.2.1//NONSGML v1.0//EN
CALSCALE:GREGORIAN
METHOD:PUBLISH
X-WR-CALNAME:SOAL
X-ORIGINAL-URL:https://soal.at
X-WR-CALDESC:Veranstaltungen im SOAL
BEGIN:VTIMEZONE
TZID:Europe/Berlin
BEGIN:DAYLIGHT
TZOFFSETFROM:+0100
TZOFFSETTO:+0200
TZNAME:CEST
DTSTART:20210328T010000
END:DAYLIGHT
BEGIN:STANDARD
TZOFFSETFROM:+0200
TZOFFSETTO:+0100
TZNAME:CET
DTSTART:20211031T010000
END:STANDARD
END:VTIMEZONE
BEGIN:VEVENT
DTSTART;TZID=Europe/Berlin:20210612T110000
DTEND;TZID=Europe/Berlin:20210613T150000
DTSTAMP:20260424T233159
CREATED:20210601T090037Z
LAST-MODIFIED:20210617T130832Z
UID:723-1623495600-1623596400@soal.at
SUMMARY:ISO: Ökosozialistische Konferenz 2021
DESCRIPTION:Wo stehen wir in der Klimakrise? Können wir sie noch aufhalten oder müssen wir schon für einen sozialen Umgang mit ihren Folgen kämpfen? Wie können wir den Kampf um das Überleben der Menschheit angesichts der Klimakatastrophe mit dem Klassenkampf und anderen Emanzipationsbewegungen zusammenbringen? Wie kann eine sozialistische Strategie im Umgang mit der Klimakatastrophe aussehen?\nZu diesen und weiteren Fragen wollen wir mit euch auf Podien und in Workshops diskutieren und dabei Theorie und Praxis – das „große Ganze“ und das Konkrete – zusammenbringen. \nNeben Auftakt- und Schlussplenum werden 6 Workshops angeboten.\nDas Programm auf https://intersoz.org/termine/oekosozkon21/ \n
URL:https://soal.at/veranstaltung/oekosozialistische-konferenz-2021/
CATEGORIES:Vergangen
ATTACH;FMTTYPE=image/jpeg:https://soal.at/wp-content/uploads/2021/06/oeko_1.jpg
END:VEVENT
END:VCALENDAR