BEGIN:VCALENDAR
VERSION:2.0
PRODID:-//SOAL - ECPv5.0.2.1//NONSGML v1.0//EN
CALSCALE:GREGORIAN
METHOD:PUBLISH
X-WR-CALNAME:SOAL
X-ORIGINAL-URL:https://soal.at
X-WR-CALDESC:Veranstaltungen im SOAL
BEGIN:VTIMEZONE
TZID:Europe/Berlin
BEGIN:DAYLIGHT
TZOFFSETFROM:+0100
TZOFFSETTO:+0200
TZNAME:CEST
DTSTART:20260329T010000
END:DAYLIGHT
BEGIN:STANDARD
TZOFFSETFROM:+0200
TZOFFSETTO:+0100
TZNAME:CET
DTSTART:20261025T010000
END:STANDARD
END:VTIMEZONE
BEGIN:VEVENT
DTSTART;TZID=Europe/Berlin:20260613T100000
DTEND;TZID=Europe/Berlin:20260614T150000
DTSTAMP:20260424T110659
CREATED:20260416T144038Z
LAST-MODIFIED:20260416T144038Z
UID:3903-1781344800-1781449200@soal.at
SUMMARY:Ökosozialismus statt Barbarei
DESCRIPTION:Raus aus der Hoffnungslosigkeit!\nÖkosozialismus statt Barbarei\nÖkosozialistische Konferenz 2016 | 13. und 14. Juni in Köln\nViel ist von multiplen Krisen die Rede: Erneuerbare Energien werden vielerorts zurückgedrängt\, der Run auf Öl\, Gas und Seltene Erden ist hemmungsloser denn je. Länder\, die auf deren Ausbeutung setzen\, machen sich zunehmend erpressbar.\nAlles nur\, um ausreichend Energie für den Hightech-Wettlauf mit China zu haben\, der letzten Endes darin münden soll\, dass nur eine Weltmacht übrig bleibt\, die alles kontrolliert: den Handel\, die Meere\, die Ressourcenverteilung\, die Datenflüsse\, die Bewegungen der Menschen und ihre Einstellungen.\nKrieg ist der Dreh- und Angelpunkt dieser Entwicklung\, in ihm kommen alle Krisen zusammen\, alle Lösungen ihrer Widersprüche\, die die Herrschenden sich einfallen lassen\, laufen auf ihn hinaus.\nDabei feiert die Atomkraft fröhliche Urständ\, auch mit Blick auf Atomwaffenbesitz – Atomkriege sollen wieder führbar werden.\nWir fragen danach\, wo in dieser Welt Ansätze für Hoffnung und Gegenwehr sind. \nMehr Infos: Start – Ökosozialistische Konferenz \n
URL:https://soal.at/veranstaltung/oekosozialismus-statt-barbarei/
LOCATION:Bürgerhaus Kalk\, Kalk-Mülheimer Str. 58\, Köln\, 51103\, Deutschland
CATEGORIES:Anstehend
ATTACH;FMTTYPE=image/jpeg:https://soal.at/wp-content/uploads/2026/04/oekosoz_bild-1024x725-1.jpg
END:VEVENT
END:VCALENDAR