BEGIN:VCALENDAR
VERSION:2.0
PRODID:-//SOAL - ECPv5.0.2.1//NONSGML v1.0//EN
CALSCALE:GREGORIAN
METHOD:PUBLISH
X-WR-CALNAME:SOAL
X-ORIGINAL-URL:https://soal.at
X-WR-CALDESC:Veranstaltungen im SOAL
BEGIN:VTIMEZONE
TZID:Europe/Berlin
BEGIN:DAYLIGHT
TZOFFSETFROM:+0100
TZOFFSETTO:+0200
TZNAME:CEST
DTSTART:20240331T010000
END:DAYLIGHT
BEGIN:STANDARD
TZOFFSETFROM:+0200
TZOFFSETTO:+0100
TZNAME:CET
DTSTART:20241027T010000
END:STANDARD
END:VTIMEZONE
BEGIN:VEVENT
DTSTART;TZID=Europe/Berlin:20240515T170000
DTEND;TZID=Europe/Berlin:20240515T170000
DTSTAMP:20260425T153527
CREATED:20240513T152415Z
LAST-MODIFIED:20240529T092355Z
UID:2536-1715792400-1715792400@soal.at
SUMMARY:Kundgebung Wien: Internationaler Tag der Deserteur*innen
DESCRIPTION:Stell dir vor es ist Krieg und keiner geht hin! – Kundgebung in Solidarität mit allen Kriegsdienstverweiger*innen und gegen das blutige EU Grenzregime \n \nMit jeder weiteren Person\, die sich weigert für ein Regime in den Krieg zu ziehen\, wird diese Utopie ein Stück realer. Desertation und Kriegsdienstverweigerung sind das allerbeste Mittel gegen Krieg und ein mutiger Akt für Frieden. Kriege sind nicht demokratisch – Widerstand dagegen ist das schon. \nLINKS ist solidarisch mit allen Kriegsverweiger*innen und Deserteur*innen und fordert für Sie ein dauerhaftes Bleiberecht in Österreich. Dabei ist uns völlig egal welche Armeen verlassen werden. \nJene\, die diesen Schritt schaffen\, müssen jedoch mit harten Maßnahmen des Regimes rechnen und haben zugleich keine Chancen auf Asyl in Europa bzw. Österreich. Im Gegenteil: das neue EU Grenzregime (GEAS) ist blutiger denn je und hebelt das Menschenrecht auf Asyl noch weiter aus. \nGemeinsam rufen wir am 15.5. um 17:00 dem internationalen Tag der Desertation zu einer Kundgebung am Ballhausplatz auf. \nFür Offene Grenzen!\nAsyl für Kriegsverweiger*innen jetzt!\nNo borders no nations!\nNo discrimination!\nGrenzen auf für Deserteur*innen!\nGrenzen töten! \n\nSiehe auch Aufruf: Politisches Asyl für Kriegsdienstverweigerer und Kriegsdienstverweigerinnen! \n
URL:https://soal.at/veranstaltung/kundgebung-internationaler-tag-der-deserteurinnen/
LOCATION:Ballhausplat Wien\, Ballhausplatz\, 1010 Wien
CATEGORIES:Vergangen
ATTACH;FMTTYPE=image/png:https://soal.at/wp-content/uploads/2024/05/Internationaler-Tag-der-Kriegsverweigerinnen-1-1024x576-1.png
END:VEVENT
END:VCALENDAR