BEGIN:VCALENDAR
VERSION:2.0
PRODID:-//SOAL - ECPv5.0.2.1//NONSGML v1.0//EN
CALSCALE:GREGORIAN
METHOD:PUBLISH
X-WR-CALNAME:SOAL
X-ORIGINAL-URL:https://soal.at
X-WR-CALDESC:Veranstaltungen im SOAL
BEGIN:VTIMEZONE
TZID:Europe/Berlin
BEGIN:DAYLIGHT
TZOFFSETFROM:+0100
TZOFFSETTO:+0200
TZNAME:CEST
DTSTART:20240331T010000
END:DAYLIGHT
BEGIN:STANDARD
TZOFFSETFROM:+0200
TZOFFSETTO:+0100
TZNAME:CET
DTSTART:20241027T010000
END:STANDARD
END:VTIMEZONE
BEGIN:VEVENT
DTSTART;TZID=Europe/Berlin:20240515T100000
DTEND;TZID=Europe/Berlin:20240515T100000
DTSTAMP:20260425T154221
CREATED:20240513T154106Z
LAST-MODIFIED:20240529T092405Z
UID:2550-1715767200-1715767200@soal.at
SUMMARY:Kundgebung Graz: Internationaler Tag der Deserteur*innen
DESCRIPTION: \n10:00 Uhr\, Hauptplatz Graz\n  \n\nSiehe auch Aufruf: Politisches Asyl für Kriegsdienstverweigerer und Kriegsdienstverweigerinnen! \n  \n
URL:https://soal.at/veranstaltung/kundgebung-graz-internationaler-tag-der-deserteurinnen/
LOCATION:Hauptplatz Graz\, Hauptplatz\, Graz
CATEGORIES:Vergangen
ATTACH;FMTTYPE=image/jpeg:https://soal.at/wp-content/uploads/2024/05/2024_05_15_transparent_kriegsdienstverweigerung-1-1024x186-1.jpg
END:VEVENT
END:VCALENDAR