BEGIN:VCALENDAR
VERSION:2.0
PRODID:-//SOAL - ECPv5.0.2.1//NONSGML v1.0//EN
CALSCALE:GREGORIAN
METHOD:PUBLISH
X-WR-CALNAME:SOAL
X-ORIGINAL-URL:https://soal.at
X-WR-CALDESC:Veranstaltungen im SOAL
BEGIN:VTIMEZONE
TZID:Europe/Vienna
BEGIN:DAYLIGHT
TZOFFSETFROM:+0100
TZOFFSETTO:+0200
TZNAME:CEST
DTSTART:20210328T010000
END:DAYLIGHT
BEGIN:STANDARD
TZOFFSETFROM:+0200
TZOFFSETTO:+0100
TZNAME:CET
DTSTART:20211031T010000
END:STANDARD
END:VTIMEZONE
BEGIN:VEVENT
DTSTART;VALUE=DATE:20210909
DTEND;VALUE=DATE:20210911
DTSTAMP:20260424T201140
CREATED:20210802T113359Z
LAST-MODIFIED:20211012T122648Z
UID:920-1631145600-1631318399@soal.at
SUMMARY:KonTra IAA - Kongress für transformative Mobilität
DESCRIPTION:Zur Internationalen Automobilausstellung IAA 2021 findet am 9. und 10. September in München der Alternativgipfel „KonTra IAA – Kongress für transformative Mobilität“ statt. Der Kongress versteht sich als Teil der Gegenaktivitäten zur IAA. Mit KonTra IAA bringen wir die notwendige inhaltliche Debatte über Ziele\, Inhalte und Durchsetzungs­möglichkeiten einer klimagerechten Mobilitäts­wende voran. In 8 Podien/Foren und über 30 Workshops geht es um neue Mobilitätskonzepte\, die Konversion der Autoindustrie und Umsetzungs­strategien. Kontra IAA findet im Feierwerk und im EineWeltHaus statt. \nAuch die ISO (deutsche Schwesternorganisation der SOAL) beteiligt sich am Kongress und hat Workshops eingebracht\, u.a.: \n\nFilm und Diskussion zur Konversion am Beispiel Lukas Aerospace (SoZ)\nRolle der Gewerkschaften bei der Konversion der Autoindustrie (VkG)\n\nAuch die SOAL wird am Kongress teilnehmen und sich an der Demonstratin am 11.9. beteiligen. \nDas Programm: https://kontra-iaa.org/programm/ \n  \n
URL:https://soal.at/veranstaltung/kontra-iaa-kongress-fuer-transformative-mobilitaet/
CATEGORIES:Vergangen
ATTACH;FMTTYPE=image/png:https://soal.at/wp-content/uploads/2021/08/KonTra_Logo_seagreen-300x126-1.png
END:VEVENT
END:VCALENDAR