BEGIN:VCALENDAR
VERSION:2.0
PRODID:-//SOAL - ECPv5.0.2.1//NONSGML v1.0//EN
CALSCALE:GREGORIAN
METHOD:PUBLISH
X-WR-CALNAME:SOAL
X-ORIGINAL-URL:https://soal.at
X-WR-CALDESC:Veranstaltungen im SOAL
BEGIN:VTIMEZONE
TZID:Europe/Berlin
BEGIN:DAYLIGHT
TZOFFSETFROM:+0100
TZOFFSETTO:+0200
TZNAME:CEST
DTSTART:20230326T010000
END:DAYLIGHT
BEGIN:STANDARD
TZOFFSETFROM:+0200
TZOFFSETTO:+0100
TZNAME:CET
DTSTART:20231029T010000
END:STANDARD
END:VTIMEZONE
BEGIN:VEVENT
DTSTART;TZID=Europe/Berlin:20230121T150000
DTEND;TZID=Europe/Berlin:20230121T170000
DTSTAMP:20260425T023030
CREATED:20230117T140254Z
LAST-MODIFIED:20230125T125220Z
UID:1942-1674313200-1674320400@soal.at
SUMMARY:Erinnern heißt kämpfen! Solidaritätsaktion mit russischen Antikriegsaktivist:innen in Wien.
DESCRIPTION:Aus dem Telegramchannel «NEWOJNA»:In den Müll mit dem Abfall\, mit dem Krieg\, dem Faschismus\, dem Imperialismus! \nSamstag\, 21. Jänner 2023\, 15:00–17:00 Uhr\n1030 Wien\, Modenapark 8–9\nAls demokratische Linke\, die aus politischen Gründen gezwungen ist\, Russland zu verlassen\, bitten wir unsere ausländischen Genoss*innen und alle\, die sich dafür interessieren\, die antifaschistische Aktion in Wien am 21. Jänner zu unterstützen. Wir werden uns treffen\, um die aktuelle politische Situation in Russland zu diskutieren und linke politische Gefangene in Russland zu unterstützen\, indem wir ihnen Briefe schreiben (in jeder Sprache\, da sie ins Russische übersetzt werden). \nSprache: Englisch/Deutsch \nOrganisatoren: Russische Sozialistische Bewegung (RSD)\, Russen gegen den Krieg (Wien) \nSiehe auch den Aufruf zu Solidaritätsaktionen mit Antikriegsaktivist:innen in Russland:\nhttps://soal.at/erinnern-heisst-kaempfen-aufruf-zu-solidaritaetsaktionen-mit-antikriegsaktivistinnen-in-russland/ \n
URL:https://soal.at/veranstaltung/erinnern-heisst-kaempfen-solidaritaetsaktion-mit-russischen-antikriegsaktivistinnen-in-wien/
LOCATION:1030 Wien\, Modenapark 8-9
CATEGORIES:Vergangen
ATTACH;FMTTYPE=image/png:https://soal.at/wp-content/uploads/2023/01/rsd-grafik-antifa-ausschnitt.png
END:VEVENT
END:VCALENDAR