BEGIN:VCALENDAR
VERSION:2.0
PRODID:-//SOAL - ECPv5.0.2.1//NONSGML v1.0//EN
CALSCALE:GREGORIAN
METHOD:PUBLISH
X-WR-CALNAME:SOAL
X-ORIGINAL-URL:https://soal.at
X-WR-CALDESC:Veranstaltungen im SOAL
BEGIN:VTIMEZONE
TZID:Europe/Berlin
BEGIN:DAYLIGHT
TZOFFSETFROM:+0100
TZOFFSETTO:+0200
TZNAME:CEST
DTSTART:20220327T010000
END:DAYLIGHT
BEGIN:STANDARD
TZOFFSETFROM:+0200
TZOFFSETTO:+0100
TZNAME:CET
DTSTART:20221030T010000
END:STANDARD
END:VTIMEZONE
BEGIN:VEVENT
DTSTART;TZID=Europe/Berlin:20220223T190000
DTEND;TZID=Europe/Berlin:20220223T210000
DTSTAMP:20260424T154624
CREATED:20220210T111552Z
LAST-MODIFIED:20220314T151955Z
UID:1286-1645642800-1645650000@soal.at
SUMMARY:Die LINKE - Den Kurs neu bestimmen
DESCRIPTION:Zum Jahresanfang 2022 hat die Diskussion um die zukünftige Ausrichtung der Partei DIE LINKE an Fahrt aufgenommen. Das Papier der beiden Parteivorsitzenden Janine Wissler und Susanne Henning-Wellsow „Den Kompass neu ausrichten“\, die Regierungsbildung in Berlin\, wo es eine starke Opposition gegen die Beteiligung an dieser Regierung mit SPD und Grünen gegeben hat\, sowie der Aufruf gegen die Ernennung von Klaus Ernst zum Vorsitzenden im Bundestagsausschuss für Klima und Energie haben deutlich gemacht\, dass ein heftiges Ringen um die zukünftige Ausrichtung der Partei im Gange ist. Wir möchten mit unserem Papier die Diskussion in der Partei bereichern\, wie auch eine Positionierung zu der künftigen Entwicklung vornehmen. \nAm 8. Dezember 2021 haben wir eine Veranstaltung mit dem Titel „Wie weiter in und mit der Partei DIE LINKE?“ durchgeführt. An dieser Veranstaltung mit den drei Referent:innen Violetta Bock\, Lorenz Gösta Beutin und Thies Gleiss haben über 70 Personen teilgenommen. An der anschließenden Diskussion haben sich sehr viele Teilnehmer:innen beteiligt\, das hat gezeigt\, dass es einen großen Diskussionsbedarf gibt.\nAls Schlussfolgerung aus dieser und weiteren Diskussionen haben wir nun eine Positionsbestimmung vorgenommen\, sie hat den Titel „Den Kurs neu bestimmen – Partei in Bewegungen\, Betrieben und Stadtteilen verankern“.\nDarüber möchten wir gerne mit anderen Genoss:innen diskutieren\, die in der Partei sind oder ihr nahe stehen. \nEinleitend sprechen: \n\nBernd Riexinger zu den klimapolitischen Debatten in Partei und Fraktion\nKatalin Gennburg zu der neuen Regierungsbeteiligung in Berlin\nVioletta Bock zu den Möglichkeiten der Verankerung am Beispiel Kassel\n\n  \n\nOnlineveranstaltung über Zoom: Anklicken und an der Veranstaltung teilnehmen \n\n  \n
URL:https://soal.at/veranstaltung/die-linke-den-kurs-neu-bestimmen/
LOCATION:Onlineveranstaltung\, Zoom beitreten
CATEGORIES:Vergangen
ORGANIZER;CN="Internationale%20Sozialistische%20Organisation%20%28ISO%29":MAILTO:iso@intersoz.org
END:VEVENT
END:VCALENDAR