BEGIN:VCALENDAR
VERSION:2.0
PRODID:-//SOAL - ECPv5.0.2.1//NONSGML v1.0//EN
CALSCALE:GREGORIAN
METHOD:PUBLISH
X-WR-CALNAME:SOAL
X-ORIGINAL-URL:https://soal.at
X-WR-CALDESC:Veranstaltungen im SOAL
BEGIN:VTIMEZONE
TZID:Europe/Berlin
BEGIN:DAYLIGHT
TZOFFSETFROM:+0100
TZOFFSETTO:+0200
TZNAME:CEST
DTSTART:20250330T010000
END:DAYLIGHT
BEGIN:STANDARD
TZOFFSETFROM:+0200
TZOFFSETTO:+0100
TZNAME:CET
DTSTART:20251026T010000
END:STANDARD
END:VTIMEZONE
BEGIN:VEVENT
DTSTART;TZID=Europe/Berlin:20251011T150000
DTEND;TZID=Europe/Berlin:20251011T170000
DTSTAMP:20260425T154248
CREATED:20251002T152346Z
LAST-MODIFIED:20251016T160906Z
UID:3165-1760194800-1760202000@soal.at
SUMMARY:Den Völkermord in Gaza stoppen!
DESCRIPTION:\n \nSolidarität mit Palästina\nWeltweit werden Sanktionen gegen Israel gefordert. Die Staaten der Haager Gruppe sind vorangegangen. Selbst in der EU treten Länder wie Spanien und Irland dafür ein. Slowenien hat bereits ein Waffenembargo verhängt! Doch die österreichische Regierung ist zu diesem Schritt nicht bereit. Van der Bellen betont\, dass er ein „großer Freund“ Israels ist. Unterstützer*innen Israels leugnen die Gräuel\, die der palästinensischen Bevölkerung angetan werden\, schlichtweg. Wir sagen: Staaten\, die keine Sanktionen gegen Israel setzen\, machen sich durch ihre wirtschaftliche und militärische Kooperation im Rahmen der „Wirtschaft des Völkermords“ (Francesca Albanese) mitverantwortlich. \n
URL:https://soal.at/veranstaltung/den-voelkermord-in-gaza-stoppen-11-10-in-wien/
CATEGORIES:Vergangen
ATTACH;FMTTYPE=image/jpeg:https://soal.at/wp-content/uploads/2025/10/Flayer-rot-1.jpeg
END:VEVENT
END:VCALENDAR