BEGIN:VCALENDAR
VERSION:2.0
PRODID:-//SOAL - ECPv5.0.2.1//NONSGML v1.0//EN
CALSCALE:GREGORIAN
METHOD:PUBLISH
X-WR-CALNAME:SOAL
X-ORIGINAL-URL:https://soal.at
X-WR-CALDESC:Veranstaltungen im SOAL
BEGIN:VTIMEZONE
TZID:Europe/Berlin
BEGIN:DAYLIGHT
TZOFFSETFROM:+0100
TZOFFSETTO:+0200
TZNAME:CEST
DTSTART:20210328T010000
END:DAYLIGHT
BEGIN:STANDARD
TZOFFSETFROM:+0200
TZOFFSETTO:+0100
TZNAME:CET
DTSTART:20211031T010000
END:STANDARD
END:VTIMEZONE
BEGIN:VEVENT
DTSTART;VALUE=DATE:20210911
DTEND;VALUE=DATE:20210912
DTSTAMP:20260424T184343
CREATED:20210802T115806Z
LAST-MODIFIED:20211012T122627Z
UID:928-1631318400-1631404799@soal.at
SUMMARY:#Aussteigen – Mobilitätswende jetzt! Demo & Sternfahrt anlässlich der IAA in München
DESCRIPTION:Grüner Lack für klimaschädliche Autos? Kurz vor der Bundestagswahl in Deutschland will sich die Autolobby bei der Internationalen Automobil-Ausstellung (IAA) einen sauberen Anstrich geben (siehe https://www.iaa.de/). Doch der rostet: Die IAA ist trotz nachhaltigem Look weiterhin die Show der Autobranche. Statt zukunftsfähige Geschäftsmodelle zu entwickeln\, verdienen BMW\, Volkswagen\, Daimler und Co. ihr Geld immer noch vor allem mit dicken Verbrennern und heizen so das Klima weiter an \nDas muss sich ändern: Mit tausenden Menschen demonstrieren wir anlässlich der IAA in München und stellen uns der Autolobby entgegen. Mit unserem Protest machen wir klar: Nicht nur die nächste deutsche Bundesregierung muss den Klimaschutz im Verkehr endlich anpacken\, eine echte Mobilitätswende einleiten und verhindern\, dass die Autokonzerne die Zukunft nachfolgender Generationen verheizen. \nAm 11.9. zeigen wir gemeinsam mit vielen tausend Menschen der IAA\, wie die Mobilitätswende aussieht: Weniger Autos und bessere Mobilität – weniger Verkehr und mehr Klimaschutz. \n\nFahrrad-Sternfahrt\nAus dem ganzen Umland – von Augsburg\, Rosenheim und vielen weiteren Orten – Radeln wir auf 17 Routen zur gemeinsamen Kundgebung.\nGroßdemo\nAuch ohne Fahrrad reisen wir aus ganz Deutschland mit Bus und Bahn zur großen Demo an. Unser Protestzug vereint sich mit der Fahrrad-Sternfahrt in der Münchner Innenstadt.\nKinder-Radldemo\nMit einer familienfreundlichen Radldemo demonstrieren Kinder mit ihren Eltern auf Fahrrädern. Ob im Hänger oder auf dem eigenen Rad – auch die jüngsten sind herzlich Willkommen!\n\nAuf der Grossdemonstration wird es einen gemeinsamen Block der IV. Internationale mit Beteiligung der SOAL geben.  \n
URL:https://soal.at/veranstaltung/aussteigen-mobilitaetswende-jetzt-demo-sternfahrt-anlaesslich-der-iaa-in-muenchen/
LOCATION:München
CATEGORIES:Vergangen
ATTACH;FMTTYPE=image/jpeg:https://soal.at/wp-content/uploads/2021/08/csm_IAA-Demo-2019_Frontbanner_8e324700ea.jpg
END:VEVENT
END:VCALENDAR