BEGIN:VCALENDAR
VERSION:2.0
PRODID:-//SOAL - ECPv5.0.2.1//NONSGML v1.0//EN
CALSCALE:GREGORIAN
METHOD:PUBLISH
X-WR-CALNAME:SOAL
X-ORIGINAL-URL:https://soal.at
X-WR-CALDESC:Veranstaltungen im SOAL
BEGIN:VTIMEZONE
TZID:Europe/Berlin
BEGIN:DAYLIGHT
TZOFFSETFROM:+0100
TZOFFSETTO:+0200
TZNAME:CEST
DTSTART:20220327T010000
END:DAYLIGHT
BEGIN:STANDARD
TZOFFSETFROM:+0200
TZOFFSETTO:+0100
TZNAME:CET
DTSTART:20221030T010000
END:STANDARD
END:VTIMEZONE
BEGIN:VEVENT
DTSTART;TZID=Europe/Berlin:20220523T170000
DTEND;TZID=Europe/Berlin:20220523T220000
DTSTAMP:20260424T154749
CREATED:20220507T202748Z
LAST-MODIFIED:20220531T092937Z
UID:1599-1653325200-1653343200@soal.at
SUMMARY:Abend für Johnny Bunzl (1945 - 2022)
DESCRIPTION: \n
URL:https://soal.at/veranstaltung/abend-fuer-johnny-bunzl-1945-2022/
LOCATION:Diplomatische Akademie Wien\, Favoritenstr. 15A\, Wien\, 1040\, Österreich
CATEGORIES:Vergangen
ATTACH;FMTTYPE=image/jpeg:https://soal.at/wp-content/uploads/2022/05/Johnny-im-Cafe-Prückl-3.jpg
END:VEVENT
END:VCALENDAR