BEGIN:VCALENDAR
VERSION:2.0
PRODID:-//SOAL - ECPv5.0.2.1//NONSGML v1.0//EN
CALSCALE:GREGORIAN
METHOD:PUBLISH
X-WR-CALNAME:SOAL
X-ORIGINAL-URL:https://soal.at
X-WR-CALDESC:Veranstaltungen im SOAL
BEGIN:VTIMEZONE
TZID:Europe/Berlin
BEGIN:DAYLIGHT
TZOFFSETFROM:+0100
TZOFFSETTO:+0200
TZNAME:CEST
DTSTART:20260329T010000
END:DAYLIGHT
BEGIN:STANDARD
TZOFFSETFROM:+0200
TZOFFSETTO:+0100
TZNAME:CET
DTSTART:20261025T010000
END:STANDARD
END:VTIMEZONE
BEGIN:VEVENT
DTSTART;TZID=Europe/Berlin:20260115T173000
DTEND;TZID=Europe/Berlin:20260115T190000
DTSTAMP:20260425T121629
CREATED:20260113T234715Z
LAST-MODIFIED:20260118T194533Z
UID:3656-1768498200-1768503600@soal.at
SUMMARY:Mahnwache für die vielen getöteten Protestierenden in Iran
DESCRIPTION: \nShoura Zehetner-Hashemi von Amnety International schreibt:  \n„Wir möchten der Trauer über die vielen getöteten Protestierenden in Iran einen Raum geben. Die Amnesty-Mediziner*innengruppe veranstaltet am kommenden Donnerstag eine Mahnwache vor der Botschaft der Islamischen Republik Iran in Wien. \nAlle sind eingeladen. \nWir werden Kerzen anzünden und der Toten gedenken.“ \nBitte komm!!! Danke. \n
URL:https://soal.at/veranstaltung/3656/
ATTACH;FMTTYPE=image/jpeg:https://soal.at/wp-content/uploads/2026/01/Iran-Mahnwache-AI.jpg
END:VEVENT
END:VCALENDAR