BEGIN:VCALENDAR
VERSION:2.0
PRODID:-//SOAL - ECPv5.0.2.1//NONSGML v1.0//EN
CALSCALE:GREGORIAN
METHOD:PUBLISH
X-WR-CALNAME:SOAL
X-ORIGINAL-URL:https://soal.at
X-WR-CALDESC:Veranstaltungen im SOAL
BEGIN:VTIMEZONE
TZID:Europe/Berlin
BEGIN:DAYLIGHT
TZOFFSETFROM:+0100
TZOFFSETTO:+0200
TZNAME:CEST
DTSTART:20250330T010000
END:DAYLIGHT
BEGIN:STANDARD
TZOFFSETFROM:+0200
TZOFFSETTO:+0100
TZNAME:CET
DTSTART:20251026T010000
END:STANDARD
END:VTIMEZONE
BEGIN:VEVENT
DTSTART;TZID=Europe/Berlin:20251216T170000
DTEND;TZID=Europe/Berlin:20251216T193000
DTSTAMP:20260425T134856
CREATED:20251210T234642Z
LAST-MODIFIED:20251225T114017Z
UID:3538-1765904400-1765913400@soal.at
SUMMARY:Unbedingt teilnehmen und unterstützen!
DESCRIPTION: \n
URL:https://soal.at/veranstaltung/3538/
LOCATION:Platz der Menschenrechte Wien\, Maria Hilferstraße 2 U2 MQ\, Wien\, Österreich
CATEGORIES:Vergangen
ATTACH;FMTTYPE=image/jpeg:https://soal.at/wp-content/uploads/2025/12/Demo-gegen-Sozialabbau-16-12-2025.jpg
END:VEVENT
END:VCALENDAR